BEGIN:VCALENDAR
VERSION:2.0
PRODID:-//swhealthcare.net//NONSGML kigkonsult.se iCalcreator 2.30.10//
CALSCALE:GREGORIAN
METHOD:PUBLISH
UID:295029d7-43d2-489c-b8c5-dd263e8e8bed
X-WR-CALDESC:Dr. Amy Oska\, Pediatrics from Sanford - Dickinson Clinic will
  be at Southwest Medical Clinic to see patients. Call 701-456-6004 to make
  an appointment.
X-WR-RELCALID:7549560ad063df6bd91d52de9059ad3f
X-WR-TIMEZONE:America/Chicago
BEGIN:VTIMEZONE
TZID:America/Chicago
BEGIN:STANDARD
TZNAME:CST
DTSTART:20141102T020000
TZOFFSETFROM:-0500
TZOFFSETTO:-0600
RDATE:20151101T020000
RDATE:20161106T020000
END:STANDARD
BEGIN:DAYLIGHT
TZNAME:CDT
DTSTART:20150308T020000
TZOFFSETFROM:-0600
TZOFFSETTO:-0500
RDATE:20160313T020000
RDATE:20170312T020000
END:DAYLIGHT
END:VTIMEZONE
BEGIN:VEVENT
UID:a598af8f-326a-40bd-87d9-ab6fe4bb53c3
DTSTAMP:20260424T000624Z
DESCRIPTION:Dr. Amy Oska\, Pediatrics from Sanford - Dickinson Clinic will 
 be at Southwest Medical Clinic to see patients. Call 701-456-6004 to make 
 an appointment.
DTSTART;TZID=America/Chicago:20150911T000000
DTEND;TZID=America/Chicago:20150911T155900
LOCATION:
SUMMARY:Dr. Amy Oska\, Pediatrics in Bowman
END:VEVENT
END:VCALENDAR
