BEGIN:VCALENDAR
VERSION:2.0
PRODID:-//swhealthcare.net//NONSGML kigkonsult.se iCalcreator 2.30.10//
CALSCALE:GREGORIAN
METHOD:PUBLISH
UID:507f5194-13bc-43e6-9d98-a9733e55a37e
X-WR-CALDESC:Come meeting our Clinic staff and enter into a free drawing!\n
 \nThis month theme is Fall!
X-WR-RELCALID:e64b832ed77be8190915d027e7b6a70c
X-WR-TIMEZONE:America/Chicago
BEGIN:VTIMEZONE
TZID:America/Chicago
BEGIN:STANDARD
TZNAME:CST
DTSTART:20141102T020000
TZOFFSETFROM:-0500
TZOFFSETTO:-0600
RDATE:20151101T020000
RDATE:20161106T020000
END:STANDARD
BEGIN:DAYLIGHT
TZNAME:CDT
DTSTART:20150308T020000
TZOFFSETFROM:-0600
TZOFFSETTO:-0500
RDATE:20160313T020000
RDATE:20170312T020000
END:DAYLIGHT
END:VTIMEZONE
BEGIN:VEVENT
UID:114193aa-dcd9-4fcf-adb4-fbde2c075cf8
DTSTAMP:20260424T000650Z
DESCRIPTION:Come meeting our Clinic staff and enter into a free drawing!\n
 \nThis month theme is Fall!
DTSTART;TZID=America/Chicago:20150918T000000
DTEND;TZID=America/Chicago:20150918T055900
LOCATION:Southwest Medical Clinic
SUMMARY:Clinic Meeting and Greet
END:VEVENT
END:VCALENDAR
