BEGIN:VCALENDAR
VERSION:2.0
PRODID:-//swhealthcare.net//NONSGML kigkonsult.se iCalcreator 2.30.10//
CALSCALE:GREGORIAN
METHOD:PUBLISH
UID:a56eb836-981f-4e62-81a6-14ab7b53fbc5
X-WR-CALDESC:Come meeting our Clinic staff and enter into a free drawing!\n
 \nThis month theme is Halloween!
X-WR-RELCALID:e53b1121aa13f1a0fc446175b0008e21
X-WR-TIMEZONE:America/Chicago
BEGIN:VTIMEZONE
TZID:America/Chicago
BEGIN:STANDARD
TZNAME:CST
DTSTART:20141102T020000
TZOFFSETFROM:-0500
TZOFFSETTO:-0600
RDATE:20151101T020000
RDATE:20161106T020000
END:STANDARD
BEGIN:DAYLIGHT
TZNAME:CDT
DTSTART:20150308T020000
TZOFFSETFROM:-0600
TZOFFSETTO:-0500
RDATE:20160313T020000
RDATE:20170312T020000
END:DAYLIGHT
END:VTIMEZONE
BEGIN:VEVENT
UID:7b3dc631-d610-4cab-be09-ada7168c0129
DTSTAMP:20260424T013411Z
DESCRIPTION:Come meeting our Clinic staff and enter into a free drawing!\n
 \nThis month theme is Halloween!
DTSTART;TZID=America/Chicago:20151030T000000
DTEND;TZID=America/Chicago:20151030T055900
LOCATION:Southwest Medical Clinic
SUMMARY:Clinic Meet and Greet
END:VEVENT
END:VCALENDAR
