BEGIN:VCALENDAR
VERSION:2.0
PRODID:-//swhealthcare.net//NONSGML kigkonsult.se iCalcreator 2.30.10//
CALSCALE:GREGORIAN
METHOD:PUBLISH
UID:ec25c15d-dea8-46e2-a591-ee7d7476205c
X-WR-CALDESC:Clinic is closed for Thanksgiving.
X-WR-RELCALID:bda9cabac6e2ee88f65d6df8fd7c7e4f
X-WR-TIMEZONE:America/Chicago
BEGIN:VTIMEZONE
TZID:America/Chicago
BEGIN:STANDARD
TZNAME:CST
DTSTART:20151101T020000
TZOFFSETFROM:-0500
TZOFFSETTO:-0600
RDATE:20161106T020000
END:STANDARD
BEGIN:DAYLIGHT
TZNAME:CDT
DTSTART:20150308T020000
TZOFFSETFROM:-0600
TZOFFSETTO:-0500
RDATE:20160313T020000
RDATE:20170312T020000
END:DAYLIGHT
END:VTIMEZONE
BEGIN:VEVENT
UID:43f3389d-2554-4572-8244-b338b1e2dedc
DTSTAMP:20260424T025420Z
DESCRIPTION:Clinic is closed for Thanksgiving.
DTSTART;TZID=America/Chicago:20151126T000000
DTEND;TZID=America/Chicago:20151126T235900
LOCATION:
SUMMARY:Clinic Closed
END:VEVENT
END:VCALENDAR
