BEGIN:VCALENDAR
VERSION:2.0
PRODID:-//swhealthcare.net//NONSGML kigkonsult.se iCalcreator 2.30.10//
CALSCALE:GREGORIAN
METHOD:PUBLISH
UID:a5f0ae78-97e0-4ab3-b5b2-b7f095fd7333
X-WR-CALDESC:May you and your family have a wonderful Thanksgiving!
X-WR-RELCALID:5da5f5e85890c2a09068fe7f656656f5
X-WR-TIMEZONE:America/Chicago
BEGIN:VTIMEZONE
TZID:America/Chicago
BEGIN:STANDARD
TZNAME:CST
DTSTART:20151101T020000
TZOFFSETFROM:-0500
TZOFFSETTO:-0600
RDATE:20161106T020000
END:STANDARD
BEGIN:DAYLIGHT
TZNAME:CDT
DTSTART:20150308T020000
TZOFFSETFROM:-0600
TZOFFSETTO:-0500
RDATE:20160313T020000
RDATE:20170312T020000
END:DAYLIGHT
END:VTIMEZONE
BEGIN:VEVENT
UID:c4ef75d5-a39d-4dd9-9883-a8e181de5c29
DTSTAMP:20260424T024439Z
DESCRIPTION:May you and your family have a wonderful Thanksgiving!
DTSTART;TZID=America/Chicago:20151126T000000
DTEND;TZID=America/Chicago:20151126T235900
LOCATION:
SUMMARY:Happy Thanksgiving!
END:VEVENT
END:VCALENDAR
