BEGIN:VCALENDAR
VERSION:2.0
PRODID:-//swhealthcare.net//NONSGML kigkonsult.se iCalcreator 2.30.10//
CALSCALE:GREGORIAN
METHOD:PUBLISH
UID:359f75bb-6778-4f24-b787-53c3f8583e75
X-WR-CALDESC:Come meeting our Clinic staff and enter into a free drawing!\n
 \nThis month theme is Holidays!
X-WR-RELCALID:afd166324705c6655882e5fa141762e4
X-WR-TIMEZONE:America/Chicago
BEGIN:VTIMEZONE
TZID:America/Chicago
BEGIN:STANDARD
TZNAME:CST
DTSTART:20151101T020000
TZOFFSETFROM:-0500
TZOFFSETTO:-0600
RDATE:20161106T020000
END:STANDARD
BEGIN:DAYLIGHT
TZNAME:CDT
DTSTART:20150308T020000
TZOFFSETFROM:-0600
TZOFFSETTO:-0500
RDATE:20160313T020000
RDATE:20170312T020000
END:DAYLIGHT
END:VTIMEZONE
BEGIN:VEVENT
UID:9c4d2758-ebb3-40d3-80dd-d7fd53088b7e
DTSTAMP:20260424T040606Z
DESCRIPTION:Come meeting our Clinic staff and enter into a free drawing!\n
 \nThis month theme is Holidays!
DTSTART;TZID=America/Chicago:20151211T000000
DTEND;TZID=America/Chicago:20151211T075900
LOCATION:Southwest Medical Clinic
SUMMARY:Clinic Meet and Greet
END:VEVENT
END:VCALENDAR
