BEGIN:VCALENDAR
VERSION:2.0
PRODID:-//swhealthcare.net//NONSGML kigkonsult.se iCalcreator 2.30.10//
CALSCALE:GREGORIAN
METHOD:PUBLISH
UID:85a4c21a-84e4-4bb5-a1b9-25bba4bf05d9
X-WR-CALDESC:Dr. Jonathan Rosenfield will be providing medical services for
  SWHS December 15-23.  \n\nDr. Rosenfield studied Chemistry at the Univ of
  Miami and Florida international University from 2001-2004.\n\nHe attended
  Windsor University School of Medicine from 2006-2010 and earned his MD de
 gree.\n\nHe attended Family  Medicine Residency at Promedica Flower Hospit
 al Family Medicine Residency Program in Sylvania\, OH  where he was the Ch
 ief Resident. He graduated from his residency program in June of 2015 and 
 joined Aurora Clinic shortly after.\n\nHe enjoys all aspects of Family Med
 icine. He has a special interest in ER work. He comes from a line of physi
 cians- His father is an  Interventional Cardiologist in Florida.\n
X-WR-RELCALID:de4215977e8440af528e106e850111cf
X-WR-TIMEZONE:America/Chicago
BEGIN:VTIMEZONE
TZID:America/Chicago
BEGIN:STANDARD
TZNAME:CST
DTSTART:20151101T020000
TZOFFSETFROM:-0500
TZOFFSETTO:-0600
RDATE:20161106T020000
END:STANDARD
BEGIN:DAYLIGHT
TZNAME:CDT
DTSTART:20150308T020000
TZOFFSETFROM:-0600
TZOFFSETTO:-0500
RDATE:20160313T020000
RDATE:20170312T020000
END:DAYLIGHT
END:VTIMEZONE
BEGIN:VEVENT
UID:72965c0c-88dd-47df-9114-e26f63b6c29c
DTSTAMP:20260424T040418Z
DESCRIPTION:Dr. Jonathan Rosenfield will be providing medical services for 
 SWHS December 15-23.  \n\nDr. Rosenfield studied Chemistry at the Univ of 
 Miami and Florida international University from 2001-2004.\n\nHe attended 
 Windsor University School of Medicine from 2006-2010 and earned his MD deg
 ree.\n\nHe attended Family  Medicine Residency at Promedica Flower Hospita
 l Family Medicine Residency Program in Sylvania\, OH  where he was the Chi
 ef Resident. He graduated from his residency program in June of 2015 and j
 oined Aurora Clinic shortly after.\n\nHe enjoys all aspects of Family Medi
 cine. He has a special interest in ER work. He comes from a line of physic
 ians- His father is an  Interventional Cardiologist in Florida.\n
DTSTART;TZID=America/Chicago:20151215T000000
DTEND;TZID=America/Chicago:20151215T235900
LOCATION:
SUMMARY:Dr. Rosenfield
END:VEVENT
END:VCALENDAR
