BEGIN:VCALENDAR
VERSION:2.0
PRODID:-//swhealthcare.net//NONSGML kigkonsult.se iCalcreator 2.30.10//
CALSCALE:GREGORIAN
METHOD:PUBLISH
UID:b88e0a6d-cb5c-4fa1-ba1c-d73544d5b5fa
X-WR-CALDESC:Merry Christmas!!!
X-WR-RELCALID:491dfac549d55dfa96b4037a6fcfcee1
X-WR-TIMEZONE:America/Chicago
BEGIN:VTIMEZONE
TZID:America/Chicago
BEGIN:STANDARD
TZNAME:CST
DTSTART:20151101T020000
TZOFFSETFROM:-0500
TZOFFSETTO:-0600
RDATE:20161106T020000
END:STANDARD
BEGIN:DAYLIGHT
TZNAME:CDT
DTSTART:20150308T020000
TZOFFSETFROM:-0600
TZOFFSETTO:-0500
RDATE:20160313T020000
RDATE:20170312T020000
END:DAYLIGHT
END:VTIMEZONE
BEGIN:VEVENT
UID:0c12c5c4-1982-4c7e-8f77-982537f92c52
DTSTAMP:20260424T040549Z
DESCRIPTION:Merry Christmas!!!
DTSTART;TZID=America/Chicago:20151224T000000
DTEND;TZID=America/Chicago:20151224T015900
LOCATION:Southwest Healthcare Services
SUMMARY:Clinic Closed at Noon
END:VEVENT
END:VCALENDAR
