BEGIN:VCALENDAR
VERSION:2.0
PRODID:-//swhealthcare.net//NONSGML kigkonsult.se iCalcreator 2.30.10//
CALSCALE:GREGORIAN
METHOD:PUBLISH
UID:9e0ad419-dac9-49eb-bdd3-0a751edb9e72
X-WR-CALDESC:Hope you and your family have a Merry Christmas!
X-WR-RELCALID:4f8ea5ad8d9f4b0b40e7881d3883da66
X-WR-TIMEZONE:America/Chicago
BEGIN:VTIMEZONE
TZID:America/Chicago
BEGIN:STANDARD
TZNAME:CST
DTSTART:20151101T020000
TZOFFSETFROM:-0500
TZOFFSETTO:-0600
RDATE:20161106T020000
END:STANDARD
BEGIN:DAYLIGHT
TZNAME:CDT
DTSTART:20150308T020000
TZOFFSETFROM:-0600
TZOFFSETTO:-0500
RDATE:20160313T020000
RDATE:20170312T020000
END:DAYLIGHT
END:VTIMEZONE
BEGIN:VEVENT
UID:527fec7c-5fa5-41fa-988c-db9b309e6298
DTSTAMP:20260424T040454Z
DESCRIPTION:Hope you and your family have a Merry Christmas!
DTSTART;TZID=America/Chicago:20151225T000000
DTEND;TZID=America/Chicago:20151225T005900
LOCATION:
SUMMARY:Merry Christmas!
END:VEVENT
END:VCALENDAR
