BEGIN:VCALENDAR
VERSION:2.0
PRODID:-//swhealthcare.net//NONSGML kigkonsult.se iCalcreator 2.30.10//
CALSCALE:GREGORIAN
METHOD:PUBLISH
UID:fda8fc1d-37a2-4172-9255-44489d45723a
X-WR-CALDESC:Happy New Year!
X-WR-RELCALID:450b466ab791a8a94386eef6ff069fed
X-WR-TIMEZONE:America/Chicago
BEGIN:VTIMEZONE
TZID:America/Chicago
BEGIN:STANDARD
TZNAME:CST
DTSTART:20151101T020000
TZOFFSETFROM:-0500
TZOFFSETTO:-0600
RDATE:20161106T020000
END:STANDARD
BEGIN:DAYLIGHT
TZNAME:CDT
DTSTART:20150308T020000
TZOFFSETFROM:-0600
TZOFFSETTO:-0500
RDATE:20160313T020000
RDATE:20170312T020000
END:DAYLIGHT
END:VTIMEZONE
BEGIN:VEVENT
UID:42bb1dcf-dfa2-43dc-ab29-ed14e237e72e
DTSTAMP:20260424T040519Z
DESCRIPTION:Happy New Year!
DTSTART;TZID=America/Chicago:20151231T000000
DTEND;TZID=America/Chicago:20151231T025900
LOCATION:Southwest Healthcare Services
SUMMARY:Clinic Closed at Noon
END:VEVENT
END:VCALENDAR
