BEGIN:VCALENDAR
VERSION:2.0
PRODID:-//swhealthcare.net//NONSGML kigkonsult.se iCalcreator 2.30.10//
CALSCALE:GREGORIAN
METHOD:PUBLISH
UID:4f7d1097-e866-4b4e-b6d5-1651dc7bbf1d
X-WR-CALDESC:Dr. Krogh will be seeing patients February 15-24.\n\nDr. Benja
 min Krogh is a graduate of the Kirksville College of Osteopathic Medicine 
 and completed his Family Practice Residency training at Northeast Regional
  Medical Center in Kirksville\, MO.  Dr. Krogh is Board Certified in Famil
 y Practice and has practiced rural Family Medicine for many years in both 
 Utah and North Dakota.  He has a special interest in clinic care for gener
 al family practice and pediatrics in particular\, although he sees patient
 s of all ages.  He enjoys developing long-term relationships with his pati
 ents and getting to know them well.  Dr. Krogh is married and has 6 childr
 en.  Along with spending time with his family\, he has interest in outdoor
  sports including fly fishing\, camping\, hunting\, biking and skiing.
X-WR-RELCALID:1fc9fcc86e51161bd649b77da692fab4
X-WR-TIMEZONE:America/Chicago
BEGIN:VTIMEZONE
TZID:America/Chicago
BEGIN:STANDARD
TZNAME:CST
DTSTART:20151101T020000
TZOFFSETFROM:-0500
TZOFFSETTO:-0600
RDATE:20161106T020000
END:STANDARD
BEGIN:DAYLIGHT
TZNAME:CDT
DTSTART:20150308T020000
TZOFFSETFROM:-0600
TZOFFSETTO:-0500
RDATE:20160313T020000
RDATE:20170312T020000
END:DAYLIGHT
END:VTIMEZONE
BEGIN:VEVENT
UID:cf957017-27d3-400d-a1fc-2bec36987e65
DTSTAMP:20260424T063943Z
DESCRIPTION:Dr. Krogh will be seeing patients February 15-24.\n\nDr. Benjam
 in Krogh is a graduate of the Kirksville College of Osteopathic Medicine a
 nd completed his Family Practice Residency training at Northeast Regional 
 Medical Center in Kirksville\, MO.  Dr. Krogh is Board Certified in Family
  Practice and has practiced rural Family Medicine for many years in both U
 tah and North Dakota.  He has a special interest in clinic care for genera
 l family practice and pediatrics in particular\, although he sees patients
  of all ages.  He enjoys developing long-term relationships with his patie
 nts and getting to know them well.  Dr. Krogh is married and has 6 childre
 n.  Along with spending time with his family\, he has interest in outdoor 
 sports including fly fishing\, camping\, hunting\, biking and skiing.
DTSTART;TZID=America/Chicago:20160215T000000
DTEND;TZID=America/Chicago:20160215T235900
LOCATION:Southwest Medical Clinic
SUMMARY:Dr. Krogh at SWMC
END:VEVENT
END:VCALENDAR
