BEGIN:VCALENDAR
VERSION:2.0
PRODID:-//swhealthcare.net//NONSGML kigkonsult.se iCalcreator 2.30.10//
CALSCALE:GREGORIAN
METHOD:PUBLISH
UID:073c68b3-2b59-40f0-9c38-10f5024d4e0a
X-WR-CALDESC:Dr. Rosenfield will be seeing patients February 25 - March 3.
 \n\nDr. Rosenfield studied at Windsor University School of Medicine to ear
 n his doctorate degree. He graduated from his residency program in June of
  2015 and joined Aurora Clinic shortly after.
X-WR-RELCALID:dc3c91548ea96d93e60402afc63b3513
X-WR-TIMEZONE:America/Chicago
BEGIN:VTIMEZONE
TZID:America/Chicago
BEGIN:STANDARD
TZNAME:CST
DTSTART:20151101T020000
TZOFFSETFROM:-0500
TZOFFSETTO:-0600
RDATE:20161106T020000
END:STANDARD
BEGIN:DAYLIGHT
TZNAME:CDT
DTSTART:20150308T020000
TZOFFSETFROM:-0600
TZOFFSETTO:-0500
RDATE:20160313T020000
RDATE:20170312T020000
END:DAYLIGHT
END:VTIMEZONE
BEGIN:VEVENT
UID:4d9cac25-9bba-4f3b-867f-8ef25e4231e8
DTSTAMP:20260424T064107Z
DESCRIPTION:Dr. Rosenfield will be seeing patients February 25 - March 3.\n
 \nDr. Rosenfield studied at Windsor University School of Medicine to earn 
 his doctorate degree. He graduated from his residency program in June of 2
 015 and joined Aurora Clinic shortly after.
DTSTART;TZID=America/Chicago:20160225T000000
DTEND;TZID=America/Chicago:20160225T235900
LOCATION:Southwest Medical Clinic
SUMMARY:Dr. Rosenfield at SWMC
END:VEVENT
END:VCALENDAR
