BEGIN:VCALENDAR
VERSION:2.0
PRODID:-//swhealthcare.net//NONSGML kigkonsult.se iCalcreator 2.30.10//
CALSCALE:GREGORIAN
METHOD:PUBLISH
UID:42cf07e8-67f8-4a72-a33a-9bfac400c9bb
X-WR-CALDESC:Dr. Krogh will be seeing patients March 4-14\, 2016
X-WR-RELCALID:8b6b058096dc5a3280458992dbb47bf1
X-WR-TIMEZONE:America/Chicago
BEGIN:VTIMEZONE
TZID:America/Chicago
BEGIN:STANDARD
TZNAME:CST
DTSTART:20151101T020000
TZOFFSETFROM:-0500
TZOFFSETTO:-0600
RDATE:20161106T020000
END:STANDARD
BEGIN:DAYLIGHT
TZNAME:CDT
DTSTART:20150308T020000
TZOFFSETFROM:-0600
TZOFFSETTO:-0500
RDATE:20160313T020000
RDATE:20170312T020000
END:DAYLIGHT
END:VTIMEZONE
BEGIN:VEVENT
UID:0eacaf1c-5d75-4f3d-9905-b10fd4a6cfa1
DTSTAMP:20260424T075832Z
DESCRIPTION:Dr. Krogh will be seeing patients March 4-14\, 2016
DTSTART;TZID=America/Chicago:20160304T000000
DTEND;TZID=America/Chicago:20160304T005900
LOCATION:Southwest Medical Clinic
SUMMARY:Dr. Krogh at SWMC
END:VEVENT
END:VCALENDAR
