BEGIN:VCALENDAR
VERSION:2.0
PRODID:-//swhealthcare.net//NONSGML kigkonsult.se iCalcreator 2.30.10//
CALSCALE:GREGORIAN
METHOD:PUBLISH
UID:c0e34ead-1855-42fd-9b79-123feb56a4a3
X-WR-CALDESC:
X-WR-RELCALID:17978ebe2df3a54b4c5b738c9ae54294
X-WR-TIMEZONE:America/Chicago
BEGIN:VTIMEZONE
TZID:America/Chicago
BEGIN:STANDARD
TZNAME:CST
DTSTART:20151101T020000
TZOFFSETFROM:-0500
TZOFFSETTO:-0600
RDATE:20161106T020000
END:STANDARD
BEGIN:DAYLIGHT
TZNAME:CDT
DTSTART:20150308T020000
TZOFFSETFROM:-0600
TZOFFSETTO:-0500
RDATE:20160313T020000
RDATE:20170312T020000
END:DAYLIGHT
END:VTIMEZONE
BEGIN:VEVENT
UID:7e2526a8-7594-45a2-8315-16135bed800a
DTSTAMP:20260424T075645Z
DESCRIPTION:
DTSTART;TZID=America/Chicago:20160305T170000
DTEND;TZID=America/Chicago:20160305T233000
LOCATION:Four Seasons
SUMMARY:Celebrity Waiter
END:VEVENT
END:VCALENDAR
