BEGIN:VCALENDAR
VERSION:2.0
PRODID:-//swhealthcare.net//NONSGML kigkonsult.se iCalcreator 2.30.10//
CALSCALE:GREGORIAN
METHOD:PUBLISH
UID:8bcc2fb4-fc42-4260-9f1b-e726188de046
X-WR-CALDESC:Dr. Feller will be seeing patients March 15-21\, 2016.
X-WR-RELCALID:e6c8711e64f54851f59a86a561c51c96
X-WR-TIMEZONE:America/Chicago
BEGIN:VTIMEZONE
TZID:America/Chicago
BEGIN:STANDARD
TZNAME:CST
DTSTART:20151101T020000
TZOFFSETFROM:-0500
TZOFFSETTO:-0600
RDATE:20161106T020000
END:STANDARD
BEGIN:DAYLIGHT
TZNAME:CDT
DTSTART:20160313T020000
TZOFFSETFROM:-0600
TZOFFSETTO:-0500
RDATE:20170312T020000
END:DAYLIGHT
END:VTIMEZONE
BEGIN:VEVENT
UID:7ce785fd-7829-4137-87f2-7f41d7c542fb
DTSTAMP:20260424T080354Z
DESCRIPTION:Dr. Feller will be seeing patients March 15-21\, 2016.
DTSTART;TZID=America/Chicago:20160315T000000
DTEND;TZID=America/Chicago:20160315T235900
LOCATION:Southwest Medical Clinic
SUMMARY:Dr. Feller at SWMC
END:VEVENT
END:VCALENDAR
