BEGIN:VCALENDAR
VERSION:2.0
PRODID:-//swhealthcare.net//NONSGML kigkonsult.se iCalcreator 2.30.10//
CALSCALE:GREGORIAN
METHOD:PUBLISH
UID:382274cf-416f-4f78-acb9-343d7865205c
X-WR-CALDESC:Dr. Rosenfield will be seeing patients March 22-28\, 2016.\n\n
 Dr. Rosenfield studied at Windsor University School of Medicine to earn hi
 s doctorate degree. He graduated from his residency program in June of 201
 5 and joined Aurora Clinic shortly after.
X-WR-RELCALID:684cc914ddb3f424a10553de40d89e80
X-WR-TIMEZONE:America/Chicago
BEGIN:VTIMEZONE
TZID:America/Chicago
BEGIN:STANDARD
TZNAME:CST
DTSTART:20151101T020000
TZOFFSETFROM:-0500
TZOFFSETTO:-0600
RDATE:20161106T020000
END:STANDARD
BEGIN:DAYLIGHT
TZNAME:CDT
DTSTART:20160313T020000
TZOFFSETFROM:-0600
TZOFFSETTO:-0500
RDATE:20170312T020000
END:DAYLIGHT
END:VTIMEZONE
BEGIN:VEVENT
UID:d4ed9cbf-429f-4173-994a-894d0eb2e56b
DTSTAMP:20260424T080021Z
DESCRIPTION:Dr. Rosenfield will be seeing patients March 22-28\, 2016.\n\nD
 r. Rosenfield studied at Windsor University School of Medicine to earn his
  doctorate degree. He graduated from his residency program in June of 2015
  and joined Aurora Clinic shortly after.
DTSTART;TZID=America/Chicago:20160322T000000
DTEND;TZID=America/Chicago:20160322T005900
LOCATION:Southwest Medical Clinic
SUMMARY:Dr. Rosenfield at SWMC
END:VEVENT
END:VCALENDAR
