BEGIN:VCALENDAR
VERSION:2.0
PRODID:-//swhealthcare.net//NONSGML kigkonsult.se iCalcreator 2.30.10//
CALSCALE:GREGORIAN
METHOD:PUBLISH
UID:63115e23-d4a9-4257-a45f-78942e4dc181
X-WR-CALDESC:Dr. Feller will be seeing patients March 29 - April 5\, 2016.
X-WR-RELCALID:6b5a9706b7233c6618c19bf31c54216d
X-WR-TIMEZONE:America/Chicago
BEGIN:VTIMEZONE
TZID:America/Chicago
BEGIN:STANDARD
TZNAME:CST
DTSTART:20151101T020000
TZOFFSETFROM:-0500
TZOFFSETTO:-0600
RDATE:20161106T020000
END:STANDARD
BEGIN:DAYLIGHT
TZNAME:CDT
DTSTART:20160313T020000
TZOFFSETFROM:-0600
TZOFFSETTO:-0500
RDATE:20170312T020000
END:DAYLIGHT
END:VTIMEZONE
BEGIN:VEVENT
UID:5ab83166-9263-46c0-89df-7e04e71c5b26
DTSTAMP:20260424T080251Z
DESCRIPTION:Dr. Feller will be seeing patients March 29 - April 5\, 2016.
DTSTART;TZID=America/Chicago:20160329T000000
DTEND;TZID=America/Chicago:20160329T005900
LOCATION:Southwest Medical Clinic
SUMMARY:Dr. Feller at SWMC
END:VEVENT
END:VCALENDAR
