BEGIN:VCALENDAR
VERSION:2.0
PRODID:-//swhealthcare.net//NONSGML kigkonsult.se iCalcreator 2.30.10//
CALSCALE:GREGORIAN
METHOD:PUBLISH
UID:cc90973f-443c-41f4-b487-859c24d82808
X-WR-CALDESC:Annual Meeting for SWHS.  We will have a update from our CEO\,
  Becky Hansen\, as well as many others.
X-WR-RELCALID:221df97a65c3d1c06c95641a51b91980
X-WR-TIMEZONE:America/Chicago
BEGIN:VTIMEZONE
TZID:America/Chicago
BEGIN:STANDARD
TZNAME:CST
DTSTART:20151101T020000
TZOFFSETFROM:-0500
TZOFFSETTO:-0600
RDATE:20161106T020000
END:STANDARD
BEGIN:DAYLIGHT
TZNAME:CDT
DTSTART:20160313T020000
TZOFFSETFROM:-0600
TZOFFSETTO:-0500
RDATE:20170312T020000
END:DAYLIGHT
END:VTIMEZONE
BEGIN:VEVENT
UID:12c12f22-980b-4d9a-a165-9423a3a8557d
DTSTAMP:20260424T094427Z
DESCRIPTION:Annual Meeting for SWHS.  We will have a update from our CEO\, 
 Becky Hansen\, as well as many others.
DTSTART;TZID=America/Chicago:20160405T190000
DTEND;TZID=America/Chicago:20160405T200000
LOCATION:Bowman Lutheran Church
SUMMARY:SWHS Annual Meeting
END:VEVENT
END:VCALENDAR
