BEGIN:VCALENDAR
VERSION:2.0
PRODID:-//swhealthcare.net//NONSGML kigkonsult.se iCalcreator 2.30.10//
CALSCALE:GREGORIAN
METHOD:PUBLISH
UID:89936e5c-96f4-46ff-88aa-b834522daa8d
X-WR-CALDESC:Dr. Rosenfield will be seeing patients April 6-12\, 2016.\n\nD
 r. Rosenfield studied at Windsor University School of Medicine to earn his
  doctorate degree. He graduated from his residency program in June of 2015
  and joined Aurora Clinic shortly after.
X-WR-RELCALID:a5c938d980a4a4a171c0538050668266
X-WR-TIMEZONE:America/Chicago
BEGIN:VTIMEZONE
TZID:America/Chicago
BEGIN:STANDARD
TZNAME:CST
DTSTART:20151101T020000
TZOFFSETFROM:-0500
TZOFFSETTO:-0600
RDATE:20161106T020000
END:STANDARD
BEGIN:DAYLIGHT
TZNAME:CDT
DTSTART:20160313T020000
TZOFFSETFROM:-0600
TZOFFSETTO:-0500
RDATE:20170312T020000
END:DAYLIGHT
END:VTIMEZONE
BEGIN:VEVENT
UID:30a00513-00e5-4a3c-b7b1-40fa710c8ee7
DTSTAMP:20260424T094035Z
DESCRIPTION:Dr. Rosenfield will be seeing patients April 6-12\, 2016.\n\nDr
 . Rosenfield studied at Windsor University School of Medicine to earn his 
 doctorate degree. He graduated from his residency program in June of 2015 
 and joined Aurora Clinic shortly after.
DTSTART;TZID=America/Chicago:20160406T000000
DTEND;TZID=America/Chicago:20160406T015900
LOCATION:Southwest Medical Clinic
SUMMARY:Dr. Rosenfield at SWMC
END:VEVENT
END:VCALENDAR
