BEGIN:VCALENDAR
VERSION:2.0
PRODID:-//swhealthcare.net//NONSGML kigkonsult.se iCalcreator 2.30.10//
CALSCALE:GREGORIAN
METHOD:PUBLISH
UID:a0e20242-a0b4-4ed0-8858-29009c50e8cd
X-WR-CALDESC:Dr. Michael Magidow will be seeing patients April 13-17\, 2016
 .\n\nDr. Michael Magidow is a graduate of the St. Petersburg State Medical
  University in St. Petersburg\, Russia\, where he also completed a PhD fro
 m the State Institute of Pulmonology and Lung Disorders. He completed his 
 family medicine residency at Oakwood Annapolis Family Medicine Residency i
 n Wayne\, Michigan. He is board-certified in family medicine and has pract
 iced medicine in the United States for 14 years. Dr. Magidow practices the
  full scope of family medicine\, caring for patients of all ages\, from ne
 wborns to geriatrics.
X-WR-RELCALID:abff3ae77234e2b720f1833ca15f19a0
X-WR-TIMEZONE:America/Chicago
BEGIN:VTIMEZONE
TZID:America/Chicago
BEGIN:STANDARD
TZNAME:CST
DTSTART:20151101T020000
TZOFFSETFROM:-0500
TZOFFSETTO:-0600
RDATE:20161106T020000
END:STANDARD
BEGIN:DAYLIGHT
TZNAME:CDT
DTSTART:20160313T020000
TZOFFSETFROM:-0600
TZOFFSETTO:-0500
RDATE:20170312T020000
END:DAYLIGHT
END:VTIMEZONE
BEGIN:VEVENT
UID:f4c6d950-b6c5-45cd-ad49-08a15bee5f16
DTSTAMP:20260424T092553Z
DESCRIPTION:Dr. Michael Magidow will be seeing patients April 13-17\, 2016.
 \n\nDr. Michael Magidow is a graduate of the St. Petersburg State Medical 
 University in St. Petersburg\, Russia\, where he also completed a PhD from
  the State Institute of Pulmonology and Lung Disorders. He completed his f
 amily medicine residency at Oakwood Annapolis Family Medicine Residency in
  Wayne\, Michigan. He is board-certified in family medicine and has practi
 ced medicine in the United States for 14 years. Dr. Magidow practices the 
 full scope of family medicine\, caring for patients of all ages\, from new
 borns to geriatrics.
DTSTART;TZID=America/Chicago:20160413T000000
DTEND;TZID=America/Chicago:20160413T235900
LOCATION:Southwest Medical Clinic
SUMMARY:Dr. Magidow
END:VEVENT
END:VCALENDAR
