BEGIN:VCALENDAR
VERSION:2.0
PRODID:-//swhealthcare.net//NONSGML kigkonsult.se iCalcreator 2.30.10//
CALSCALE:GREGORIAN
METHOD:PUBLISH
UID:6715b8b4-aa82-4ea7-a950-a45fa01c547f
X-WR-CALDESC:Dr. Feller will be seeing patients April 29 - May 9\, 2016.
X-WR-RELCALID:66e7fdbeea343a3da43fa5a7b6fe941a
X-WR-TIMEZONE:America/Chicago
BEGIN:VTIMEZONE
TZID:America/Chicago
BEGIN:STANDARD
TZNAME:CST
DTSTART:20151101T020000
TZOFFSETFROM:-0500
TZOFFSETTO:-0600
RDATE:20161106T020000
END:STANDARD
BEGIN:DAYLIGHT
TZNAME:CDT
DTSTART:20160313T020000
TZOFFSETFROM:-0600
TZOFFSETTO:-0500
RDATE:20170312T020000
END:DAYLIGHT
END:VTIMEZONE
BEGIN:VEVENT
UID:3f6859e5-795b-4589-9159-339f1113b554
DTSTAMP:20260424T094458Z
DESCRIPTION:Dr. Feller will be seeing patients April 29 - May 9\, 2016.
DTSTART;TZID=America/Chicago:20160429T000000
DTEND;TZID=America/Chicago:20160429T015900
LOCATION:Southwest Medical Clinic
SUMMARY:Dr. Feller at SWMC
END:VEVENT
END:VCALENDAR
