BEGIN:VCALENDAR
VERSION:2.0
PRODID:-//swhealthcare.net//NONSGML kigkonsult.se iCalcreator 2.30.10//
CALSCALE:GREGORIAN
METHOD:PUBLISH
UID:ebef40a6-ea2c-46e3-b292-aeab1d83f7ad
X-WR-CALDESC:Dr. Rosenfield will be seeing patients May 10-16\, 2016.\n\nDr
 . Rosenfield studied at Windsor University School of Medicine to earn his 
 doctorate degree. He graduated from his residency program in June of 2015 
 and joined Aurora Clinic shortly after.
X-WR-RELCALID:1f32028e8255408e9960da4d1d1de266
X-WR-TIMEZONE:America/Chicago
BEGIN:VTIMEZONE
TZID:America/Chicago
BEGIN:STANDARD
TZNAME:CST
DTSTART:20151101T020000
TZOFFSETFROM:-0500
TZOFFSETTO:-0600
RDATE:20161106T020000
RDATE:20171105T020000
END:STANDARD
BEGIN:DAYLIGHT
TZNAME:CDT
DTSTART:20160313T020000
TZOFFSETFROM:-0600
TZOFFSETTO:-0500
RDATE:20170312T020000
END:DAYLIGHT
END:VTIMEZONE
BEGIN:VEVENT
UID:68a9f39b-b17d-4d08-ae8f-e81c0822a4b4
DTSTAMP:20260424T105011Z
DESCRIPTION:Dr. Rosenfield will be seeing patients May 10-16\, 2016.\n\nDr.
  Rosenfield studied at Windsor University School of Medicine to earn his d
 octorate degree. He graduated from his residency program in June of 2015 a
 nd joined Aurora Clinic shortly after.
DTSTART;TZID=America/Chicago:20160510T000000
DTEND;TZID=America/Chicago:20160516T025900
LOCATION:Southwest Medical Clinic
SUMMARY:Dr. Rosenfield at SWMC
END:VEVENT
END:VCALENDAR
