BEGIN:VCALENDAR
VERSION:2.0
PRODID:-//swhealthcare.net//NONSGML kigkonsult.se iCalcreator 2.30.10//
CALSCALE:GREGORIAN
METHOD:PUBLISH
UID:05b6480d-b5fa-44b2-b54e-f7e97a3b0729
X-WR-CALDESC:Dr. Krogh will be seeing patients May 17-26\, 2016
X-WR-RELCALID:e111ddb5bb9bffacc7cbda66b2578b75
X-WR-TIMEZONE:America/Chicago
BEGIN:VTIMEZONE
TZID:America/Chicago
BEGIN:STANDARD
TZNAME:CST
DTSTART:20151101T020000
TZOFFSETFROM:-0500
TZOFFSETTO:-0600
RDATE:20161106T020000
RDATE:20171105T020000
END:STANDARD
BEGIN:DAYLIGHT
TZNAME:CDT
DTSTART:20160313T020000
TZOFFSETFROM:-0600
TZOFFSETTO:-0500
RDATE:20170312T020000
END:DAYLIGHT
END:VTIMEZONE
BEGIN:VEVENT
UID:c5c666e8-6afc-4fc4-8cbc-edbdb3b07063
DTSTAMP:20260424T105744Z
DESCRIPTION:Dr. Krogh will be seeing patients May 17-26\, 2016
DTSTART;TZID=America/Chicago:20160517T000000
DTEND;TZID=America/Chicago:20160526T025900
LOCATION:Southwest Medical Clinic
SUMMARY:Dr. Krogh at SWMC
END:VEVENT
END:VCALENDAR
