BEGIN:VCALENDAR
VERSION:2.0
PRODID:-//swhealthcare.net//NONSGML kigkonsult.se iCalcreator 2.30.10//
CALSCALE:GREGORIAN
METHOD:PUBLISH
UID:ca65adfe-f948-4579-b3c2-f47404836b98
X-WR-CALDESC:Southwest Healthcare Service’s Ambulance Squad will be offerin
 g a free Friends and Family CPR class on Wednesday\, May 18th at 6:00 pm. 
  This will be for the public\, it will not count towards certification to 
 any professional requirements. Certification cards will not be provided fo
 r this class. If you are interested in signing up or would like more infor
 mation on this class please call the ambulance garage at 523-3218.
X-WR-RELCALID:b77fed6210272f4628dc81dd8ad3217c
X-WR-TIMEZONE:America/Chicago
BEGIN:VTIMEZONE
TZID:America/Chicago
BEGIN:STANDARD
TZNAME:CST
DTSTART:20151101T020000
TZOFFSETFROM:-0500
TZOFFSETTO:-0600
RDATE:20161106T020000
RDATE:20171105T020000
END:STANDARD
BEGIN:DAYLIGHT
TZNAME:CDT
DTSTART:20160313T020000
TZOFFSETFROM:-0600
TZOFFSETTO:-0500
RDATE:20170312T020000
END:DAYLIGHT
END:VTIMEZONE
BEGIN:VEVENT
UID:8d0f120c-4685-47c4-98ef-7011ce531563
DTSTAMP:20260424T105332Z
DESCRIPTION:Southwest Healthcare Service’s Ambulance Squad will be offering
  a free Friends and Family CPR class on Wednesday\, May 18th at 6:00 pm.  
 This will be for the public\, it will not count towards certification to a
 ny professional requirements. Certification cards will not be provided for
  this class. If you are interested in signing up or would like more inform
 ation on this class please call the ambulance garage at 523-3218.
DTSTART;TZID=America/Chicago:20160518T180000
DTEND;TZID=America/Chicago:20160518T210000
LOCATION:
SUMMARY:Free CPR Class
END:VEVENT
END:VCALENDAR
