BEGIN:VCALENDAR
VERSION:2.0
PRODID:-//swhealthcare.net//NONSGML kigkonsult.se iCalcreator 2.30.10//
CALSCALE:GREGORIAN
METHOD:PUBLISH
UID:865a824c-91f3-45ca-9316-ba3509786b2f
X-WR-CALDESC:Dr. Michael Vincent will be seeing patients May 27-30.
X-WR-RELCALID:2fdbaca7d4d010777a8a511c9ad75c3d
X-WR-TIMEZONE:America/Chicago
BEGIN:VTIMEZONE
TZID:America/Chicago
BEGIN:STANDARD
TZNAME:CST
DTSTART:20151101T020000
TZOFFSETFROM:-0500
TZOFFSETTO:-0600
RDATE:20161106T020000
RDATE:20171105T020000
END:STANDARD
BEGIN:DAYLIGHT
TZNAME:CDT
DTSTART:20160313T020000
TZOFFSETFROM:-0600
TZOFFSETTO:-0500
RDATE:20170312T020000
END:DAYLIGHT
END:VTIMEZONE
BEGIN:VEVENT
UID:cdd77a38-fb80-4140-ae4f-13082b973660
DTSTAMP:20260424T105429Z
DESCRIPTION:Dr. Michael Vincent will be seeing patients May 27-30.
DTSTART;TZID=America/Chicago:20160527T000000
DTEND;TZID=America/Chicago:20160530T235900
LOCATION:SWMC
SUMMARY:Dr. Michael Vincent
END:VEVENT
END:VCALENDAR
