BEGIN:VCALENDAR
VERSION:2.0
PRODID:-//swhealthcare.net//NONSGML kigkonsult.se iCalcreator 2.30.10//
CALSCALE:GREGORIAN
METHOD:PUBLISH
UID:68643cfc-6eaa-46d2-91f0-714c90750188
X-WR-CALDESC:Clinic will be closed for Memorial Day!
X-WR-RELCALID:34ff58f994b1cb56109b0f650adcc1f9
X-WR-TIMEZONE:America/Chicago
BEGIN:VTIMEZONE
TZID:America/Chicago
BEGIN:STANDARD
TZNAME:CST
DTSTART:20151101T020000
TZOFFSETFROM:-0500
TZOFFSETTO:-0600
RDATE:20161106T020000
RDATE:20171105T020000
END:STANDARD
BEGIN:DAYLIGHT
TZNAME:CDT
DTSTART:20160313T020000
TZOFFSETFROM:-0600
TZOFFSETTO:-0500
RDATE:20170312T020000
END:DAYLIGHT
END:VTIMEZONE
BEGIN:VEVENT
UID:485b4fd2-c139-42d9-9976-5f0429f4f924
DTSTAMP:20260424T105438Z
DESCRIPTION:Clinic will be closed for Memorial Day!
DTSTART;TZID=America/Chicago:20160530T000000
DTEND;TZID=America/Chicago:20160530T235900
LOCATION:
SUMMARY:Memorial Day!
END:VEVENT
END:VCALENDAR
