BEGIN:VCALENDAR
VERSION:2.0
PRODID:-//swhealthcare.net//NONSGML kigkonsult.se iCalcreator 2.30.10//
CALSCALE:GREGORIAN
METHOD:PUBLISH
UID:bf6e940b-3f25-435d-9c10-11cced89d94f
X-WR-CALDESC:Dr. Feller will be seeing patients June 6-12\, 2016.
X-WR-RELCALID:b7a607fb2c8c226655e88530db595bb4
X-WR-TIMEZONE:America/Chicago
BEGIN:VTIMEZONE
TZID:America/Chicago
BEGIN:STANDARD
TZNAME:CST
DTSTART:20151101T020000
TZOFFSETFROM:-0500
TZOFFSETTO:-0600
RDATE:20161106T020000
RDATE:20171105T020000
END:STANDARD
BEGIN:DAYLIGHT
TZNAME:CDT
DTSTART:20160313T020000
TZOFFSETFROM:-0600
TZOFFSETTO:-0500
RDATE:20170312T020000
END:DAYLIGHT
END:VTIMEZONE
BEGIN:VEVENT
UID:b6f27e25-db2c-4c04-b37a-0ea60d0448bb
DTSTAMP:20260424T124122Z
DESCRIPTION:Dr. Feller will be seeing patients June 6-12\, 2016.
DTSTART;TZID=America/Chicago:20160606T000000
DTEND;TZID=America/Chicago:20160612T035900
LOCATION:Southwest Medical Clinic
SUMMARY:Dr. Feller at SWMC
END:VEVENT
END:VCALENDAR
