BEGIN:VCALENDAR
VERSION:2.0
PRODID:-//swhealthcare.net//NONSGML kigkonsult.se iCalcreator 2.30.10//
CALSCALE:GREGORIAN
METHOD:PUBLISH
UID:f11e59e2-2bb3-4129-a591-ae2f9fc16419
X-WR-CALDESC:Dr. Feller will be seeing patients June 24- July 5\, 2016.
X-WR-RELCALID:c748473a4618d6ac2127eae4a93141a0
X-WR-TIMEZONE:America/Chicago
BEGIN:VTIMEZONE
TZID:America/Chicago
BEGIN:STANDARD
TZNAME:CST
DTSTART:20151101T020000
TZOFFSETFROM:-0500
TZOFFSETTO:-0600
RDATE:20161106T020000
RDATE:20171105T020000
END:STANDARD
BEGIN:DAYLIGHT
TZNAME:CDT
DTSTART:20160313T020000
TZOFFSETFROM:-0600
TZOFFSETTO:-0500
RDATE:20170312T020000
END:DAYLIGHT
END:VTIMEZONE
BEGIN:VEVENT
UID:7551ce43-33ab-4422-aa4e-d32d7874e422
DTSTAMP:20260424T124127Z
DESCRIPTION:Dr. Feller will be seeing patients June 24- July 5\, 2016.
DTSTART;TZID=America/Chicago:20160624T000000
DTEND;TZID=America/Chicago:20160705T045900
LOCATION:Southwest Medical Clinic
SUMMARY:Dr. Feller at SWMC
END:VEVENT
END:VCALENDAR
