BEGIN:VCALENDAR
VERSION:2.0
PRODID:-//swhealthcare.net//NONSGML kigkonsult.se iCalcreator 2.30.10//
CALSCALE:GREGORIAN
METHOD:PUBLISH
UID:f3798f0a-2f43-42e5-a8f7-fa256e8b351b
X-WR-CALDESC:$25 Sport Physicals will be available during July and August.
 \n\nMake your appointment today by calling (701) 523-3226.
X-WR-RELCALID:493cb6cc72440caec86ba99585e77671
X-WR-TIMEZONE:America/Chicago
BEGIN:VTIMEZONE
TZID:America/Chicago
BEGIN:STANDARD
TZNAME:CST
DTSTART:20151101T020000
TZOFFSETFROM:-0500
TZOFFSETTO:-0600
RDATE:20161106T020000
RDATE:20171105T020000
END:STANDARD
BEGIN:DAYLIGHT
TZNAME:CDT
DTSTART:20160313T020000
TZOFFSETFROM:-0600
TZOFFSETTO:-0500
RDATE:20170312T020000
END:DAYLIGHT
END:VTIMEZONE
BEGIN:VEVENT
UID:b86bc3e2-cbd1-4aab-b5de-cab6e689dc39
DTSTAMP:20260424T134955Z
DESCRIPTION:$25 Sport Physicals will be available during July and August.\n
 \nMake your appointment today by calling (701) 523-3226.
DTSTART;TZID=America/Chicago:20160701T000000
DTEND;TZID=America/Chicago:20160701T235900
LOCATION:
SUMMARY:$25 Sport Physicals
END:VEVENT
END:VCALENDAR
