BEGIN:VCALENDAR
VERSION:2.0
PRODID:-//swhealthcare.net//NONSGML kigkonsult.se iCalcreator 2.30.10//
CALSCALE:GREGORIAN
METHOD:PUBLISH
UID:a2075fe9-36ea-4b5d-baf3-8c710893df49
X-WR-CALDESC:$25 Sport Physicals will be available during July and August.
 \n\nMake your appointment today by calling (701) 523-3226.
X-WR-RELCALID:ded937b28cc6dc02847556085625d3f3
X-WR-TIMEZONE:America/Chicago
BEGIN:VTIMEZONE
TZID:America/Chicago
BEGIN:STANDARD
TZNAME:CST
DTSTART:20151101T020000
TZOFFSETFROM:-0500
TZOFFSETTO:-0600
RDATE:20161106T020000
RDATE:20171105T020000
END:STANDARD
BEGIN:DAYLIGHT
TZNAME:CDT
DTSTART:20160313T020000
TZOFFSETFROM:-0600
TZOFFSETTO:-0500
RDATE:20170312T020000
END:DAYLIGHT
END:VTIMEZONE
BEGIN:VEVENT
UID:c30bd86e-f604-4a16-94a8-645ccdae95f6
DTSTAMP:20260424T134911Z
DESCRIPTION:$25 Sport Physicals will be available during July and August.\n
 \nMake your appointment today by calling (701) 523-3226.
DTSTART;TZID=America/Chicago:20160704T000000
DTEND;TZID=America/Chicago:20160705T005900
LOCATION:
SUMMARY:$25 Sport Physicals
END:VEVENT
END:VCALENDAR
