BEGIN:VCALENDAR
VERSION:2.0
PRODID:-//swhealthcare.net//NONSGML kigkonsult.se iCalcreator 2.30.10//
CALSCALE:GREGORIAN
METHOD:PUBLISH
UID:cddb5321-a025-4138-ba23-02cd1f1bab25
X-WR-CALDESC:Dr. Krogh will be seeing patients July 6-15\, 2016
X-WR-RELCALID:7e8ea29cca69adcf6ce31b3cf169c975
X-WR-TIMEZONE:America/Chicago
BEGIN:VTIMEZONE
TZID:America/Chicago
BEGIN:STANDARD
TZNAME:CST
DTSTART:20151101T020000
TZOFFSETFROM:-0500
TZOFFSETTO:-0600
RDATE:20161106T020000
RDATE:20171105T020000
END:STANDARD
BEGIN:DAYLIGHT
TZNAME:CDT
DTSTART:20160313T020000
TZOFFSETFROM:-0600
TZOFFSETTO:-0500
RDATE:20170312T020000
END:DAYLIGHT
END:VTIMEZONE
BEGIN:VEVENT
UID:8fa3e9b9-b643-4f71-aebd-52c07d0f3fca
DTSTAMP:20260424T134937Z
DESCRIPTION:Dr. Krogh will be seeing patients July 6-15\, 2016
DTSTART;TZID=America/Chicago:20160706T000000
DTEND;TZID=America/Chicago:20160715T055900
LOCATION:Southwest Medical Clinic
SUMMARY:Dr. Krogh at SWMC
END:VEVENT
END:VCALENDAR
