BEGIN:VCALENDAR
VERSION:2.0
PRODID:-//swhealthcare.net//NONSGML kigkonsult.se iCalcreator 2.30.10//
CALSCALE:GREGORIAN
METHOD:PUBLISH
UID:2158ccbd-87ce-4408-a824-e754427ea235
X-WR-CALDESC:Thursday\, July 14\, Southwest Healthcare Services will be pro
 viding a free skin cancer screening.
X-WR-RELCALID:0ff971860fb9a56f5aca457b8a553d3e
X-WR-TIMEZONE:America/Chicago
BEGIN:VTIMEZONE
TZID:America/Chicago
BEGIN:STANDARD
TZNAME:CST
DTSTART:20151101T020000
TZOFFSETFROM:-0500
TZOFFSETTO:-0600
RDATE:20161106T020000
RDATE:20171105T020000
END:STANDARD
BEGIN:DAYLIGHT
TZNAME:CDT
DTSTART:20160313T020000
TZOFFSETFROM:-0600
TZOFFSETTO:-0500
RDATE:20170312T020000
END:DAYLIGHT
END:VTIMEZONE
BEGIN:VEVENT
UID:5cce1b45-d569-4524-b2b3-fa7bfd0c2f27
DTSTAMP:20260424T134955Z
DESCRIPTION:Thursday\, July 14\, Southwest Healthcare Services will be prov
 iding a free skin cancer screening.
DTSTART;TZID=America/Chicago:20160714T000000
DTEND;TZID=America/Chicago:20160714T015900
LOCATION:Southwest Medical Clinic
SUMMARY:Free Skin Cancer Screening
END:VEVENT
END:VCALENDAR
