BEGIN:VCALENDAR
VERSION:2.0
PRODID:-//swhealthcare.net//NONSGML kigkonsult.se iCalcreator 2.30.10//
CALSCALE:GREGORIAN
METHOD:PUBLISH
UID:2bce4272-8ca1-401c-bc53-a064c224a864
X-WR-CALDESC:Dr. Feller will be seeing patients July 15- July 20\, 2016.
X-WR-RELCALID:f2c686ffd633231eaa0797683369c9ff
X-WR-TIMEZONE:America/Chicago
BEGIN:VTIMEZONE
TZID:America/Chicago
BEGIN:STANDARD
TZNAME:CST
DTSTART:20151101T020000
TZOFFSETFROM:-0500
TZOFFSETTO:-0600
RDATE:20161106T020000
RDATE:20171105T020000
END:STANDARD
BEGIN:DAYLIGHT
TZNAME:CDT
DTSTART:20160313T020000
TZOFFSETFROM:-0600
TZOFFSETTO:-0500
RDATE:20170312T020000
END:DAYLIGHT
END:VTIMEZONE
BEGIN:VEVENT
UID:5bd57511-7fe5-45a9-a01e-bfdf494ff1a2
DTSTAMP:20260424T140401Z
DESCRIPTION:Dr. Feller will be seeing patients July 15- July 20\, 2016.
DTSTART;TZID=America/Chicago:20160715T000000
DTEND;TZID=America/Chicago:20160720T055900
LOCATION:Southwest Medical Clinic
SUMMARY:Dr. Feller at SWMC
END:VEVENT
END:VCALENDAR
