BEGIN:VCALENDAR
VERSION:2.0
PRODID:-//swhealthcare.net//NONSGML kigkonsult.se iCalcreator 2.30.10//
CALSCALE:GREGORIAN
METHOD:PUBLISH
UID:4819501d-3537-4208-92b2-7e087c8289a1
X-WR-CALDESC:$25 Sport Physicals will be available during July and August.
 \n\nMake your appointment today by calling (701) 523-3226.
X-WR-RELCALID:9fb693ef882fc98539d79095b195f980
X-WR-TIMEZONE:America/Chicago
BEGIN:VTIMEZONE
TZID:America/Chicago
BEGIN:STANDARD
TZNAME:CST
DTSTART:20151101T020000
TZOFFSETFROM:-0500
TZOFFSETTO:-0600
RDATE:20161106T020000
RDATE:20171105T020000
END:STANDARD
BEGIN:DAYLIGHT
TZNAME:CDT
DTSTART:20160313T020000
TZOFFSETFROM:-0600
TZOFFSETTO:-0500
RDATE:20170312T020000
END:DAYLIGHT
END:VTIMEZONE
BEGIN:VEVENT
UID:5c718ba1-1a58-43a1-8dac-4d25e490457e
DTSTAMP:20260424T135227Z
DESCRIPTION:$25 Sport Physicals will be available during July and August.\n
 \nMake your appointment today by calling (701) 523-3226.
DTSTART;TZID=America/Chicago:20160718T000000
DTEND;TZID=America/Chicago:20160718T025900
LOCATION:
SUMMARY:$25 Sport Physicals
END:VEVENT
END:VCALENDAR
