BEGIN:VCALENDAR
VERSION:2.0
PRODID:-//swhealthcare.net//NONSGML kigkonsult.se iCalcreator 2.30.10//
CALSCALE:GREGORIAN
METHOD:PUBLISH
UID:eb56fdcd-73b7-4bc7-9a0a-0dd8dfa99f9c
X-WR-CALDESC:Thursday\, July 14\, Southwest Healthcare Services will be pro
 viding a free skin cancer screening.
X-WR-RELCALID:db1dc83eee5ccf67a1ed36ed1265002d
X-WR-TIMEZONE:America/Chicago
BEGIN:VTIMEZONE
TZID:America/Chicago
BEGIN:STANDARD
TZNAME:CST
DTSTART:20151101T020000
TZOFFSETFROM:-0500
TZOFFSETTO:-0600
RDATE:20161106T020000
RDATE:20171105T020000
END:STANDARD
BEGIN:DAYLIGHT
TZNAME:CDT
DTSTART:20160313T020000
TZOFFSETFROM:-0600
TZOFFSETTO:-0500
RDATE:20170312T020000
END:DAYLIGHT
END:VTIMEZONE
BEGIN:VEVENT
UID:09486457-b426-45f0-b2d5-6be426f4445e
DTSTAMP:20260424T135101Z
DESCRIPTION:Thursday\, July 14\, Southwest Healthcare Services will be prov
 iding a free skin cancer screening.
DTSTART;TZID=America/Chicago:20160718T000000
DTEND;TZID=America/Chicago:20160718T025900
LOCATION:Southwest Medical Clinic
SUMMARY:Free Skin Cancer Screening
END:VEVENT
END:VCALENDAR
