BEGIN:VCALENDAR
VERSION:2.0
PRODID:-//swhealthcare.net//NONSGML kigkonsult.se iCalcreator 2.30.10//
CALSCALE:GREGORIAN
METHOD:PUBLISH
UID:ab260ea4-3761-4b75-9e10-a1100bda29ad
X-WR-CALDESC:Dr. Michael Vincent will be seeing patients July 21-25.
X-WR-RELCALID:1fda7a0b6f723a534b2bf35c5750f1c2
X-WR-TIMEZONE:America/Chicago
BEGIN:VTIMEZONE
TZID:America/Chicago
BEGIN:STANDARD
TZNAME:CST
DTSTART:20151101T020000
TZOFFSETFROM:-0500
TZOFFSETTO:-0600
RDATE:20161106T020000
RDATE:20171105T020000
END:STANDARD
BEGIN:DAYLIGHT
TZNAME:CDT
DTSTART:20160313T020000
TZOFFSETFROM:-0600
TZOFFSETTO:-0500
RDATE:20170312T020000
END:DAYLIGHT
END:VTIMEZONE
BEGIN:VEVENT
UID:5c1f9ac6-d6c2-4982-aa99-40713ac0e183
DTSTAMP:20260424T134822Z
DESCRIPTION:Dr. Michael Vincent will be seeing patients July 21-25.
DTSTART;TZID=America/Chicago:20160721T000000
DTEND;TZID=America/Chicago:20160725T005900
LOCATION:SWMC
SUMMARY:Dr. Michael Vincent
END:VEVENT
END:VCALENDAR
