BEGIN:VCALENDAR
VERSION:2.0
PRODID:-//swhealthcare.net//NONSGML kigkonsult.se iCalcreator 2.30.10//
CALSCALE:GREGORIAN
METHOD:PUBLISH
UID:91a6cf4c-9003-4602-a3eb-2c9d8cd44d75
X-WR-CALDESC:Dr. Moellmer will be seeing patients July 26- August 2.
X-WR-RELCALID:ebf792bdf0c6948c6425eea1b3269d65
X-WR-TIMEZONE:America/Chicago
BEGIN:VTIMEZONE
TZID:America/Chicago
BEGIN:STANDARD
TZNAME:CST
DTSTART:20151101T020000
TZOFFSETFROM:-0500
TZOFFSETTO:-0600
RDATE:20161106T020000
RDATE:20171105T020000
END:STANDARD
BEGIN:DAYLIGHT
TZNAME:CDT
DTSTART:20160313T020000
TZOFFSETFROM:-0600
TZOFFSETTO:-0500
RDATE:20170312T020000
END:DAYLIGHT
END:VTIMEZONE
BEGIN:VEVENT
UID:caa54575-3995-4405-9091-0d3fa56a5648
DTSTAMP:20260424T134818Z
DESCRIPTION:Dr. Moellmer will be seeing patients July 26- August 2.
DTSTART;TZID=America/Chicago:20160726T000000
DTEND;TZID=America/Chicago:20160802T005900
LOCATION:SWMC
SUMMARY:Dr. Moellmer
END:VEVENT
END:VCALENDAR
