BEGIN:VCALENDAR
VERSION:2.0
PRODID:-//swhealthcare.net//NONSGML kigkonsult.se iCalcreator 2.30.10//
CALSCALE:GREGORIAN
METHOD:PUBLISH
UID:7025e514-6999-4b1b-8eaa-71d41c20f710
X-WR-CALDESC:Dr. Feller will be seeing patients August 3- August 15\, 2016.
X-WR-RELCALID:4e4cd54a97fd24a235ecda9e7b2c99e1
X-WR-TIMEZONE:America/Chicago
BEGIN:VTIMEZONE
TZID:America/Chicago
BEGIN:STANDARD
TZNAME:CST
DTSTART:20151101T020000
TZOFFSETFROM:-0500
TZOFFSETTO:-0600
RDATE:20161106T020000
RDATE:20171105T020000
END:STANDARD
BEGIN:DAYLIGHT
TZNAME:CDT
DTSTART:20160313T020000
TZOFFSETFROM:-0600
TZOFFSETTO:-0500
RDATE:20170312T020000
END:DAYLIGHT
END:VTIMEZONE
BEGIN:VEVENT
UID:c219ca8e-3131-4fe9-930e-20d1a75ae667
DTSTAMP:20260424T152737Z
DESCRIPTION:Dr. Feller will be seeing patients August 3- August 15\, 2016.
DTSTART;TZID=America/Chicago:20160803T000000
DTEND;TZID=America/Chicago:20160815T065900
LOCATION:Southwest Medical Clinic
SUMMARY:Dr. Feller at SWMC
END:VEVENT
END:VCALENDAR
