BEGIN:VCALENDAR
VERSION:2.0
PRODID:-//swhealthcare.net//NONSGML kigkonsult.se iCalcreator 2.30.10//
CALSCALE:GREGORIAN
METHOD:PUBLISH
UID:893c2ff3-cc22-4088-9f5e-be94c0c93b07
X-WR-CALDESC:Dr. Arnold\, Obstetrics/Gynecology will be at Southwest Medica
 l Clinic to see patients. Call 523-3226 to make an appointment.
X-WR-RELCALID:90a765fb88e8c1068f9a11c849dd2d21
X-WR-TIMEZONE:America/Chicago
BEGIN:VTIMEZONE
TZID:America/Chicago
BEGIN:STANDARD
TZNAME:CST
DTSTART:20151101T020000
TZOFFSETFROM:-0500
TZOFFSETTO:-0600
RDATE:20161106T020000
RDATE:20171105T020000
END:STANDARD
BEGIN:DAYLIGHT
TZNAME:CDT
DTSTART:20160313T020000
TZOFFSETFROM:-0600
TZOFFSETTO:-0500
RDATE:20170312T020000
END:DAYLIGHT
END:VTIMEZONE
BEGIN:VEVENT
UID:3217a396-ff37-4350-a5ec-c09c0c2a7586
DTSTAMP:20260424T152554Z
DESCRIPTION:Dr. Arnold\, Obstetrics/Gynecology will be at Southwest Medical
  Clinic to see patients. Call 523-3226 to make an appointment.
DTSTART;TZID=America/Chicago:20160810T000000
DTEND;TZID=America/Chicago:20160810T235900
LOCATION:Southwest Medical Clinic
SUMMARY:Dr. Arnold\, OBGYN in Bowman
END:VEVENT
END:VCALENDAR
