BEGIN:VCALENDAR
VERSION:2.0
PRODID:-//swhealthcare.net//NONSGML kigkonsult.se iCalcreator 2.30.10//
CALSCALE:GREGORIAN
METHOD:PUBLISH
UID:8198e198-9fa5-4ea8-bf8d-df6c890f3db3
X-WR-CALDESC:Dr. Krogh will be seeing patients August 16- 25\, 2016
X-WR-RELCALID:858c5a56d4b668b3732deda4d8f56d36
X-WR-TIMEZONE:America/Chicago
BEGIN:VTIMEZONE
TZID:America/Chicago
BEGIN:STANDARD
TZNAME:CST
DTSTART:20151101T020000
TZOFFSETFROM:-0500
TZOFFSETTO:-0600
RDATE:20161106T020000
RDATE:20171105T020000
END:STANDARD
BEGIN:DAYLIGHT
TZNAME:CDT
DTSTART:20160313T020000
TZOFFSETFROM:-0600
TZOFFSETTO:-0500
RDATE:20170312T020000
END:DAYLIGHT
END:VTIMEZONE
BEGIN:VEVENT
UID:adea65a7-aa32-48e4-b92b-2c86aafcba92
DTSTAMP:20260424T151637Z
DESCRIPTION:Dr. Krogh will be seeing patients August 16- 25\, 2016
DTSTART;TZID=America/Chicago:20160816T000000
DTEND;TZID=America/Chicago:20160825T065900
LOCATION:Southwest Medical Clinic
SUMMARY:Dr. Krogh at SWMC
END:VEVENT
END:VCALENDAR
