BEGIN:VCALENDAR
VERSION:2.0
PRODID:-//swhealthcare.net//NONSGML kigkonsult.se iCalcreator 2.30.10//
CALSCALE:GREGORIAN
METHOD:PUBLISH
UID:9a12b8ff-7ee4-45ec-b108-108e74eb7f75
X-WR-CALDESC:Dr. Amy Oska\, Pediatrics from Sanford - Dickinson Clinic will
  be at Southwest Medical Clinic to see patients. Call 701-456-6004 to make
  an appointment.
X-WR-RELCALID:23bc610b4ea28e71925e2db8a2d2fecd
X-WR-TIMEZONE:America/Chicago
BEGIN:VTIMEZONE
TZID:America/Chicago
BEGIN:STANDARD
TZNAME:CST
DTSTART:20151101T020000
TZOFFSETFROM:-0500
TZOFFSETTO:-0600
RDATE:20161106T020000
RDATE:20171105T020000
END:STANDARD
BEGIN:DAYLIGHT
TZNAME:CDT
DTSTART:20160313T020000
TZOFFSETFROM:-0600
TZOFFSETTO:-0500
RDATE:20170312T020000
END:DAYLIGHT
END:VTIMEZONE
BEGIN:VEVENT
UID:53f111c8-71b6-4c18-a2c4-aa79423b3920
DTSTAMP:20260424T153401Z
DESCRIPTION:Dr. Amy Oska\, Pediatrics from Sanford - Dickinson Clinic will 
 be at Southwest Medical Clinic to see patients. Call 701-456-6004 to make 
 an appointment.
DTSTART;TZID=America/Chicago:20160819T000000
DTEND;TZID=America/Chicago:20160819T235900
LOCATION:
SUMMARY:Dr. Amy Oska\, Pediatrics in Bowman
END:VEVENT
END:VCALENDAR
