BEGIN:VCALENDAR
VERSION:2.0
PRODID:-//swhealthcare.net//NONSGML kigkonsult.se iCalcreator 2.30.10//
CALSCALE:GREGORIAN
METHOD:PUBLISH
UID:71426cec-afe0-49bd-adc4-7fbd927fe11b
X-WR-CALDESC:$25 Sport Physicals will be available during July and August.
 \n\nMake your appointment today by calling (701) 523-3226.
X-WR-RELCALID:23effb087198961c774f07e54ea20654
X-WR-TIMEZONE:America/Chicago
BEGIN:VTIMEZONE
TZID:America/Chicago
BEGIN:STANDARD
TZNAME:CST
DTSTART:20151101T020000
TZOFFSETFROM:-0500
TZOFFSETTO:-0600
RDATE:20161106T020000
RDATE:20171105T020000
END:STANDARD
BEGIN:DAYLIGHT
TZNAME:CDT
DTSTART:20160313T020000
TZOFFSETFROM:-0600
TZOFFSETTO:-0500
RDATE:20170312T020000
END:DAYLIGHT
END:VTIMEZONE
BEGIN:VEVENT
UID:6a1d27da-ab20-4279-8d15-5cbc1b485d8b
DTSTAMP:20260424T152631Z
DESCRIPTION:$25 Sport Physicals will be available during July and August.\n
 \nMake your appointment today by calling (701) 523-3226.
DTSTART;TZID=America/Chicago:20160822T000000
DTEND;TZID=America/Chicago:20160822T075900
LOCATION:
SUMMARY:$25 Sport Physicals
END:VEVENT
END:VCALENDAR
