BEGIN:VCALENDAR
VERSION:2.0
PRODID:-//swhealthcare.net//NONSGML kigkonsult.se iCalcreator 2.30.10//
CALSCALE:GREGORIAN
METHOD:PUBLISH
UID:36a91f3f-043e-4278-93f3-21edce5657b5
X-WR-CALDESC:Dr. Ed Moellmer will be seeing patients August 26- September 1
 .
X-WR-RELCALID:eff6d2e20354ae741092cbbc919c6c10
X-WR-TIMEZONE:America/Chicago
BEGIN:VTIMEZONE
TZID:America/Chicago
BEGIN:STANDARD
TZNAME:CST
DTSTART:20151101T020000
TZOFFSETFROM:-0500
TZOFFSETTO:-0600
RDATE:20161106T020000
RDATE:20171105T020000
END:STANDARD
BEGIN:DAYLIGHT
TZNAME:CDT
DTSTART:20160313T020000
TZOFFSETFROM:-0600
TZOFFSETTO:-0500
RDATE:20170312T020000
END:DAYLIGHT
END:VTIMEZONE
BEGIN:VEVENT
UID:51b3f894-05e4-4fb4-be9e-2d24f54d8c73
DTSTAMP:20260424T152927Z
DESCRIPTION:Dr. Ed Moellmer will be seeing patients August 26- September 1.
DTSTART;TZID=America/Chicago:20160826T000000
DTEND;TZID=America/Chicago:20160901T015900
LOCATION:SWMC
SUMMARY:Dr. Ed Moellmer
END:VEVENT
END:VCALENDAR
