BEGIN:VCALENDAR
VERSION:2.0
PRODID:-//swhealthcare.net//NONSGML kigkonsult.se iCalcreator 2.30.10//
CALSCALE:GREGORIAN
METHOD:PUBLISH
UID:4f749d1d-8455-4fb3-a8f6-f0b25a0a4524
X-WR-CALDESC:Dr. Krogh will be seeing patients September 6-14\, 2016
X-WR-RELCALID:359e9977b97faa5edb579072fd71af7f
X-WR-TIMEZONE:America/Chicago
BEGIN:VTIMEZONE
TZID:America/Chicago
BEGIN:STANDARD
TZNAME:CST
DTSTART:20151101T020000
TZOFFSETFROM:-0500
TZOFFSETTO:-0600
RDATE:20161106T020000
RDATE:20171105T020000
END:STANDARD
BEGIN:DAYLIGHT
TZNAME:CDT
DTSTART:20160313T020000
TZOFFSETFROM:-0600
TZOFFSETTO:-0500
RDATE:20170312T020000
END:DAYLIGHT
END:VTIMEZONE
BEGIN:VEVENT
UID:552f4548-7295-4f76-841c-cf516e5a8e6e
DTSTAMP:20260424T164954Z
DESCRIPTION:Dr. Krogh will be seeing patients September 6-14\, 2016
DTSTART;TZID=America/Chicago:20160906T000000
DTEND;TZID=America/Chicago:20160914T075900
LOCATION:Southwest Medical Clinic
SUMMARY:Dr. Krogh at SWMC
END:VEVENT
END:VCALENDAR
