BEGIN:VCALENDAR
VERSION:2.0
PRODID:-//swhealthcare.net//NONSGML kigkonsult.se iCalcreator 2.30.10//
CALSCALE:GREGORIAN
METHOD:PUBLISH
UID:4b7d7879-83d7-445a-9edd-2704fb827cd1
X-WR-CALDESC:Dr. Feller will be seeing patients September 15-21\, 2016.
X-WR-RELCALID:dde047ca0c5f3f5a4e0215c8f065c4ae
X-WR-TIMEZONE:America/Chicago
BEGIN:VTIMEZONE
TZID:America/Chicago
BEGIN:STANDARD
TZNAME:CST
DTSTART:20151101T020000
TZOFFSETFROM:-0500
TZOFFSETTO:-0600
RDATE:20161106T020000
RDATE:20171105T020000
END:STANDARD
BEGIN:DAYLIGHT
TZNAME:CDT
DTSTART:20160313T020000
TZOFFSETFROM:-0600
TZOFFSETTO:-0500
RDATE:20170312T020000
RDATE:20180311T020000
END:DAYLIGHT
END:VTIMEZONE
BEGIN:VEVENT
UID:0f47e4fd-54ce-45bf-bb2b-7469bf6b922e
DTSTAMP:20260424T164245Z
DESCRIPTION:Dr. Feller will be seeing patients September 15-21\, 2016.
DTSTART;TZID=America/Chicago:20160915T000000
DTEND;TZID=America/Chicago:20160920T085900
LOCATION:Southwest Medical Clinic
SUMMARY:Dr. Feller at SWMC
END:VEVENT
END:VCALENDAR
