BEGIN:VCALENDAR
VERSION:2.0
PRODID:-//swhealthcare.net//NONSGML kigkonsult.se iCalcreator 2.30.10//
CALSCALE:GREGORIAN
METHOD:PUBLISH
UID:6347c00e-722e-4e18-8fd7-bb9360363961
X-WR-CALDESC:Dr. Michael Magidow will be seeing patients September 21-25.
X-WR-RELCALID:84ff366f1f0294eae3f0a1cf668517ec
X-WR-TIMEZONE:America/Chicago
BEGIN:VTIMEZONE
TZID:America/Chicago
BEGIN:STANDARD
TZNAME:CST
DTSTART:20151101T020000
TZOFFSETFROM:-0500
TZOFFSETTO:-0600
RDATE:20161106T020000
RDATE:20171105T020000
END:STANDARD
BEGIN:DAYLIGHT
TZNAME:CDT
DTSTART:20160313T020000
TZOFFSETFROM:-0600
TZOFFSETTO:-0500
RDATE:20170312T020000
RDATE:20180311T020000
END:DAYLIGHT
END:VTIMEZONE
BEGIN:VEVENT
UID:1ab406de-3e7e-4ff6-895e-7de571ba36c0
DTSTAMP:20260424T165647Z
DESCRIPTION:Dr. Michael Magidow will be seeing patients September 21-25.
DTSTART;TZID=America/Chicago:20160921T000000
DTEND;TZID=America/Chicago:20160925T035900
LOCATION:SWMC
SUMMARY:Dr. Michael Magidow
END:VEVENT
END:VCALENDAR
