BEGIN:VCALENDAR
VERSION:2.0
PRODID:-//swhealthcare.net//NONSGML kigkonsult.se iCalcreator 2.30.10//
CALSCALE:GREGORIAN
METHOD:PUBLISH
UID:cf61058f-9a29-404d-8f01-3f64831c6b98
X-WR-CALDESC:Dr. Ed Moellmer will be seeing patients September 26- October 
 2.
X-WR-RELCALID:28b846c131415dbf16ab77732998b912
X-WR-TIMEZONE:America/Chicago
BEGIN:VTIMEZONE
TZID:America/Chicago
BEGIN:STANDARD
TZNAME:CST
DTSTART:20151101T020000
TZOFFSETFROM:-0500
TZOFFSETTO:-0600
RDATE:20161106T020000
RDATE:20171105T020000
END:STANDARD
BEGIN:DAYLIGHT
TZNAME:CDT
DTSTART:20160313T020000
TZOFFSETFROM:-0600
TZOFFSETTO:-0500
RDATE:20170312T020000
RDATE:20180311T020000
END:DAYLIGHT
END:VTIMEZONE
BEGIN:VEVENT
UID:ee08627b-0033-4717-bc87-24c2cc1cc381
DTSTAMP:20260424T165126Z
DESCRIPTION:Dr. Ed Moellmer will be seeing patients September 26- October 2
 .
DTSTART;TZID=America/Chicago:20160926T000000
DTEND;TZID=America/Chicago:20161002T025900
LOCATION:SWMC
SUMMARY:Dr. Ed Moellmer
END:VEVENT
END:VCALENDAR
