BEGIN:VCALENDAR
VERSION:2.0
PRODID:-//swhealthcare.net//NONSGML kigkonsult.se iCalcreator 2.30.10//
CALSCALE:GREGORIAN
METHOD:PUBLISH
UID:450ccf63-d980-4c64-8e74-a00c94dcc569
X-WR-CALDESC:Dr. Krogh will be seeing patients October 3-16\, 2016
X-WR-RELCALID:d9fa8eac779250c0b052a2f2cec5b0b5
X-WR-TIMEZONE:America/Chicago
BEGIN:VTIMEZONE
TZID:America/Chicago
BEGIN:STANDARD
TZNAME:CST
DTSTART:20151101T020000
TZOFFSETFROM:-0500
TZOFFSETTO:-0600
RDATE:20161106T020000
RDATE:20171105T020000
END:STANDARD
BEGIN:DAYLIGHT
TZNAME:CDT
DTSTART:20160313T020000
TZOFFSETFROM:-0600
TZOFFSETTO:-0500
RDATE:20170312T020000
RDATE:20180311T020000
END:DAYLIGHT
END:VTIMEZONE
BEGIN:VEVENT
UID:60850aa1-c4d7-4d8e-ac6e-eea85803087f
DTSTAMP:20260424T180906Z
DESCRIPTION:Dr. Krogh will be seeing patients October 3-16\, 2016
DTSTART;TZID=America/Chicago:20161003T000000
DTEND;TZID=America/Chicago:20161016T085900
LOCATION:Southwest Medical Clinic
SUMMARY:Dr. Krogh at SWMC
END:VEVENT
END:VCALENDAR
