BEGIN:VCALENDAR
VERSION:2.0
PRODID:-//swhealthcare.net//NONSGML kigkonsult.se iCalcreator 2.30.10//
CALSCALE:GREGORIAN
METHOD:PUBLISH
UID:9d0fe4ce-3f4e-4f42-836f-4eece735a6e4
X-WR-CALDESC:Dr. Ed Moellmer will be seeing patients October 17-24.
X-WR-RELCALID:4439c8317a073427c7e75fd35e8617d2
X-WR-TIMEZONE:America/Chicago
BEGIN:VTIMEZONE
TZID:America/Chicago
BEGIN:STANDARD
TZNAME:CST
DTSTART:20151101T020000
TZOFFSETFROM:-0500
TZOFFSETTO:-0600
RDATE:20161106T020000
RDATE:20171105T020000
END:STANDARD
BEGIN:DAYLIGHT
TZNAME:CDT
DTSTART:20160313T020000
TZOFFSETFROM:-0600
TZOFFSETTO:-0500
RDATE:20170312T020000
RDATE:20180311T020000
END:DAYLIGHT
END:VTIMEZONE
BEGIN:VEVENT
UID:64653ed9-be46-404d-937f-016c114f24be
DTSTAMP:20260424T175838Z
DESCRIPTION:Dr. Ed Moellmer will be seeing patients October 17-24.
DTSTART;TZID=America/Chicago:20161017T000000
DTEND;TZID=America/Chicago:20161024T035900
LOCATION:SWMC
SUMMARY:Dr. Ed Moellmer
END:VEVENT
END:VCALENDAR
