BEGIN:VCALENDAR
VERSION:2.0
PRODID:-//swhealthcare.net//NONSGML kigkonsult.se iCalcreator 2.30.10//
CALSCALE:GREGORIAN
METHOD:PUBLISH
UID:e18d0b3f-534c-40de-85e0-9fb3bd127d0a
X-WR-CALDESC:Dr. Krogh will be seeing patients October 25-30\, 2016
X-WR-RELCALID:12b6160c8de8a1975da2349ee9e23bf5
X-WR-TIMEZONE:America/Chicago
BEGIN:VTIMEZONE
TZID:America/Chicago
BEGIN:STANDARD
TZNAME:CST
DTSTART:20151101T020000
TZOFFSETFROM:-0500
TZOFFSETTO:-0600
RDATE:20161106T020000
RDATE:20171105T020000
END:STANDARD
BEGIN:DAYLIGHT
TZNAME:CDT
DTSTART:20160313T020000
TZOFFSETFROM:-0600
TZOFFSETTO:-0500
RDATE:20170312T020000
RDATE:20180311T020000
END:DAYLIGHT
END:VTIMEZONE
BEGIN:VEVENT
UID:c0c7dc63-70aa-4bde-b4d6-b336bc40dd49
DTSTAMP:20260424T180343Z
DESCRIPTION:Dr. Krogh will be seeing patients October 25-30\, 2016
DTSTART;TZID=America/Chicago:20161025T000000
DTEND;TZID=America/Chicago:20161030T085900
LOCATION:Southwest Medical Clinic
SUMMARY:Dr. Krogh at SWMC
END:VEVENT
END:VCALENDAR
